Package: curatedTCGAData Version: 1.32.0 Command: /home/biocbuild/bbs-3.22-bioc/R/bin/R CMD INSTALL curatedTCGAData StartedAt: 2025-11-11 10:59:28 -0500 (Tue, 11 Nov 2025) EndedAt: 2025-11-11 11:00:01 -0500 (Tue, 11 Nov 2025) EllapsedTime: 32.9 seconds RetCode: 0 Status: OK