Package: curatedTBData Version: 2.6.0 Command: /home/biocbuild/bbs-3.22-bioc/R/bin/R CMD build --keep-empty-dirs --no-resave-data curatedTBData StartedAt: 2025-11-13 11:13:28 -0500 (Thu, 13 Nov 2025) EndedAt: 2025-11-13 11:16:03 -0500 (Thu, 13 Nov 2025) EllapsedTime: 155.1 seconds RetCode: 0 Status: OK PackageFile: curatedTBData_2.6.0.tar.gz PackageFileSize: 361.4 KiB