Package: curatedPCaData Version: 1.6.0 Command: /home/biocbuild/bbs-3.22-bioc/R/bin/R CMD INSTALL curatedPCaData StartedAt: 2025-11-06 10:59:23 -0500 (Thu, 06 Nov 2025) EndedAt: 2025-11-06 11:00:08 -0500 (Thu, 06 Nov 2025) EllapsedTime: 44.4 seconds RetCode: 0 Status: OK