Package: curatedOvarianData Version: 1.48.0 Command: /home/biocbuild/bbs-3.22-bioc/R/bin/R CMD build --keep-empty-dirs --no-resave-data curatedOvarianData StartedAt: 2025-10-30 11:17:45 -0400 (Thu, 30 Oct 2025) EndedAt: 2025-10-30 11:20:37 -0400 (Thu, 30 Oct 2025) EllapsedTime: 172.1 seconds RetCode: 0 Status: OK PackageFile: curatedOvarianData_1.48.0.tar.gz PackageFileSize: 381.3 MiB