Package: curatedCRCData Version: 2.41.1 Command: /home/biocbuild/bbs-3.22-bioc/R/bin/R CMD INSTALL curatedCRCData StartedAt: 2025-10-14 10:56:21 -0400 (Tue, 14 Oct 2025) EndedAt: 2025-10-14 10:56:24 -0400 (Tue, 14 Oct 2025) EllapsedTime: 2.6 seconds RetCode: 0 Status: OK