Package: curatedBreastData Version: 2.38.0 Command: /home/biocbuild/bbs-3.22-bioc/R/bin/R CMD INSTALL curatedBreastData StartedAt: 2025-11-11 10:57:53 -0500 (Tue, 11 Nov 2025) EndedAt: 2025-11-11 10:58:00 -0500 (Tue, 11 Nov 2025) EllapsedTime: 6.9 seconds RetCode: 0 Status: OK