Package: curatedAdipoChIP Version: 1.25.0 Command: /home/biocbuild/bbs-3.22-bioc/R/bin/R CMD INSTALL curatedAdipoChIP StartedAt: 2025-09-30 11:01:56 -0400 (Tue, 30 Sep 2025) EndedAt: 2025-09-30 11:02:23 -0400 (Tue, 30 Sep 2025) EllapsedTime: 27.4 seconds RetCode: 0 Status: OK