Package: curatedAdipoArray Version: 1.22.0 Maintainer: Mahmoud Ahmed MaintainerEmail: mahmoud.s.fahmy at students.kasralainy.edu.eg git_url: https://git.bioconductor.org/packages/curatedAdipoArray git_branch: RELEASE_3_22 git_last_commit: abb63e0 git_last_commit_date: 2025-10-29 10:02:11 -0500 (Wed, 29 Oct 2025)