Package: crisprScoreData Version: 1.14.0 Command: /home/biocbuild/bbs-3.22-bioc/R/bin/R CMD INSTALL crisprScoreData StartedAt: 2025-10-30 10:58:45 -0400 (Thu, 30 Oct 2025) EndedAt: 2025-10-30 10:59:06 -0400 (Thu, 30 Oct 2025) EllapsedTime: 20.1 seconds RetCode: 0 Status: OK