Package: crisprScoreData Version: 1.14.0 Command: /home/biocbuild/bbs-3.22-bioc/R/bin/R CMD build --keep-empty-dirs --no-resave-data crisprScoreData StartedAt: 2025-10-30 11:16:44 -0400 (Thu, 30 Oct 2025) EndedAt: 2025-10-30 11:17:27 -0400 (Thu, 30 Oct 2025) EllapsedTime: 43.7 seconds RetCode: 0 Status: OK PackageFile: crisprScoreData_1.14.0.tar.gz PackageFileSize: 6.089 MiB