Package: clustifyrdatahub Version: 1.20.0 Command: /home/biocbuild/bbs-3.22-bioc/R/bin/R CMD check --install=check:clustifyrdatahub.install-out.txt --library=/home/biocbuild/bbs-3.22-bioc/R/site-library --timings clustifyrdatahub_1.20.0.tar.gz StartedAt: 2025-11-25 12:07:20 -0500 (Tue, 25 Nov 2025) EndedAt: 2025-11-25 12:09:21 -0500 (Tue, 25 Nov 2025) EllapsedTime: 121.4 seconds RetCode: 0 Status: OK CheckDir: clustifyrdatahub.Rcheck Warnings: 0