Package: cfToolsData Version: 1.8.0 Maintainer: Ran Hu MaintainerEmail: huran at ucla.edu git_url: https://git.bioconductor.org/packages/cfToolsData git_branch: RELEASE_3_22 git_last_commit: d98a4c0 git_last_commit_date: 2025-10-29 10:05:52 -0500 (Wed, 29 Oct 2025)