Package: celldex Version: 1.19.0 Command: /home/biocbuild/bbs-3.22-bioc/R/bin/R CMD INSTALL celldex StartedAt: 2025-09-30 11:04:25 -0400 (Tue, 30 Sep 2025) EndedAt: 2025-09-30 11:05:05 -0400 (Tue, 30 Sep 2025) EllapsedTime: 39.6 seconds RetCode: 0 Status: OK