Package: celldex Version: 1.19.0 Command: /home/biocbuild/bbs-3.22-bioc/R/bin/R CMD build --keep-empty-dirs --no-resave-data celldex StartedAt: 2025-09-30 11:08:18 -0400 (Tue, 30 Sep 2025) EndedAt: 2025-09-30 11:09:12 -0400 (Tue, 30 Sep 2025) EllapsedTime: 54.3 seconds RetCode: 0 Status: OK PackageFile: celldex_1.19.0.tar.gz PackageFileSize: 402.6 KiB