Package: ccdata Version: 1.36.0 Command: /home/biocbuild/bbs-3.22-bioc/R/bin/R CMD build --keep-empty-dirs --no-resave-data ccdata StartedAt: 2025-10-30 11:13:16 -0400 (Thu, 30 Oct 2025) EndedAt: 2025-10-30 11:14:13 -0400 (Thu, 30 Oct 2025) EllapsedTime: 57.2 seconds RetCode: 0 Status: OK PackageFile: ccdata_1.36.0.tar.gz PackageFileSize: 893.9 MiB