Package: breakpointRdata Version: 1.27.0 Command: /home/biocbuild/bbs-3.22-bioc/R/bin/R CMD build --keep-empty-dirs --no-resave-data breakpointRdata StartedAt: 2025-10-02 11:07:17 -0400 (Thu, 02 Oct 2025) EndedAt: 2025-10-02 11:07:35 -0400 (Thu, 02 Oct 2025) EllapsedTime: 17.3 seconds RetCode: 0 Status: OK PackageFile: breakpointRdata_1.27.0.tar.gz PackageFileSize: 69.47 MiB