Package: bcellViper Version: 1.46.0 Command: /home/biocbuild/bbs-3.22-bioc/R/bin/R CMD INSTALL bcellViper StartedAt: 2025-11-20 10:56:19 -0500 (Thu, 20 Nov 2025) EndedAt: 2025-11-20 10:56:21 -0500 (Thu, 20 Nov 2025) EllapsedTime: 2.0 seconds RetCode: 0 Status: OK