Package: adductData Version: 1.26.0 Command: /home/biocbuild/bbs-3.22-bioc/R/bin/R CMD INSTALL adductData StartedAt: 2025-11-11 10:57:08 -0500 (Tue, 11 Nov 2025) EndedAt: 2025-11-11 10:57:17 -0500 (Tue, 11 Nov 2025) EllapsedTime: 8.9 seconds RetCode: 0 Status: OK