Package: TumourMethData Version: 1.8.0 Command: /home/biocbuild/bbs-3.22-bioc/R/bin/R CMD INSTALL TumourMethData StartedAt: 2025-11-18 10:58:54 -0500 (Tue, 18 Nov 2025) EndedAt: 2025-11-18 10:59:22 -0500 (Tue, 18 Nov 2025) EllapsedTime: 28.3 seconds RetCode: 0 Status: OK