Package: TumourMethData Version: 1.8.0 Command: /home/biocbuild/bbs-3.22-bioc/R/bin/R CMD build --keep-empty-dirs --no-resave-data TumourMethData StartedAt: 2025-11-18 12:18:41 -0500 (Tue, 18 Nov 2025) EndedAt: 2025-11-18 12:19:27 -0500 (Tue, 18 Nov 2025) EllapsedTime: 45.9 seconds RetCode: 0 Status: OK PackageFile: TumourMethData_1.8.0.tar.gz PackageFileSize: 20.63 KiB