Package: TENxVisiumData Version: 1.18.0 Command: /home/biocbuild/bbs-3.22-bioc/R/bin/R CMD INSTALL TENxVisiumData StartedAt: 2025-11-20 10:59:24 -0500 (Thu, 20 Nov 2025) EndedAt: 2025-11-20 11:00:01 -0500 (Thu, 20 Nov 2025) EllapsedTime: 36.7 seconds RetCode: 0 Status: OK