Package: TENxVisiumData Version: 1.18.0 Command: /home/biocbuild/bbs-3.22-bioc/R/bin/R CMD build --keep-empty-dirs --no-resave-data TENxVisiumData StartedAt: 2025-11-20 11:50:16 -0500 (Thu, 20 Nov 2025) EndedAt: 2025-11-20 11:51:17 -0500 (Thu, 20 Nov 2025) EllapsedTime: 60.3 seconds RetCode: 0 Status: OK PackageFile: TENxVisiumData_1.18.0.tar.gz PackageFileSize: 299.3 KiB