Package: TENxBrainData Version: 1.30.0 Command: /home/biocbuild/bbs-3.22-bioc/R/bin/R CMD INSTALL TENxBrainData StartedAt: 2025-10-30 11:00:52 -0400 (Thu, 30 Oct 2025) EndedAt: 2025-10-30 11:01:32 -0400 (Thu, 30 Oct 2025) EllapsedTime: 40.2 seconds RetCode: 0 Status: OK