Package: TCGAbiolinksGUI.data Version: 1.30.0 Command: /home/biocbuild/bbs-3.22-bioc/R/bin/R CMD INSTALL TCGAbiolinksGUI.data StartedAt: 2025-10-30 10:55:28 -0400 (Thu, 30 Oct 2025) EndedAt: 2025-10-30 10:55:37 -0400 (Thu, 30 Oct 2025) EllapsedTime: 9.4 seconds RetCode: 0 Status: OK