Package: TCGAbiolinksGUI.data Version: 1.30.0 Command: /home/biocbuild/bbs-3.22-bioc/R/bin/R CMD build --keep-empty-dirs --no-resave-data TCGAbiolinksGUI.data StartedAt: 2025-10-30 11:57:09 -0400 (Thu, 30 Oct 2025) EndedAt: 2025-10-30 11:57:55 -0400 (Thu, 30 Oct 2025) EllapsedTime: 46.4 seconds RetCode: 0 Status: OK PackageFile: TCGAbiolinksGUI.data_1.30.0.tar.gz PackageFileSize: 21.86 MiB