Package: SVM2CRMdata Version: 1.42.0 Command: /home/biocbuild/bbs-3.22-bioc/R/bin/R CMD INSTALL SVM2CRMdata StartedAt: 2025-11-25 10:55:45 -0500 (Tue, 25 Nov 2025) EndedAt: 2025-11-25 10:55:47 -0500 (Tue, 25 Nov 2025) EllapsedTime: 2.1 seconds RetCode: 0 Status: OK