Package: SNAData Version: 1.56.0 Command: /home/biocbuild/bbs-3.22-bioc/R/bin/R CMD INSTALL SNAData StartedAt: 2025-11-20 10:56:39 -0500 (Thu, 20 Nov 2025) EndedAt: 2025-11-20 10:56:42 -0500 (Thu, 20 Nov 2025) EllapsedTime: 3.2 seconds RetCode: 0 Status: OK