Package: RnBeads.mm10 Version: 2.18.0 Command: /home/biocbuild/bbs-3.22-bioc/R/bin/R CMD INSTALL RnBeads.mm10 StartedAt: 2025-11-11 11:03:10 -0500 (Tue, 11 Nov 2025) EndedAt: 2025-11-11 11:03:18 -0500 (Tue, 11 Nov 2025) EllapsedTime: 8.4 seconds RetCode: 0 Status: OK