Package: RnBeads.hg38 Version: 1.42.0 Command: /home/biocbuild/bbs-3.22-bioc/R/bin/R CMD INSTALL RnBeads.hg38 StartedAt: 2025-11-20 10:58:27 -0500 (Thu, 20 Nov 2025) EndedAt: 2025-11-20 10:58:32 -0500 (Thu, 20 Nov 2025) EllapsedTime: 5.5 seconds RetCode: 0 Status: OK