Package: RnBeads.hg38 Version: 1.42.0 Command: /home/biocbuild/bbs-3.22-bioc/R/bin/R CMD build --keep-empty-dirs --no-resave-data RnBeads.hg38 StartedAt: 2025-11-20 11:41:57 -0500 (Thu, 20 Nov 2025) EndedAt: 2025-11-20 11:42:50 -0500 (Thu, 20 Nov 2025) EllapsedTime: 53.1 seconds RetCode: 0 Status: OK PackageFile: RnBeads.hg38_1.42.0.tar.gz PackageFileSize: 172 MiB