Package: RforProteomics Version: 1.47.2 Command: /home/biocbuild/bbs-3.22-bioc/R/bin/R CMD INSTALL RforProteomics StartedAt: 2025-09-30 11:01:42 -0400 (Tue, 30 Sep 2025) EndedAt: 2025-09-30 11:02:25 -0400 (Tue, 30 Sep 2025) EllapsedTime: 42.2 seconds RetCode: 0 Status: OK