Package: RcisTarget.hg19.motifDBs.cisbpOnly.500bp Version: 1.29.0 Command: /home/biocbuild/bbs-3.22-bioc/R/bin/R CMD INSTALL RcisTarget.hg19.motifDBs.cisbpOnly.500bp StartedAt: 2025-10-07 10:55:55 -0400 (Tue, 07 Oct 2025) EndedAt: 2025-10-07 10:56:06 -0400 (Tue, 07 Oct 2025) EllapsedTime: 10.4 seconds RetCode: 0 Status: OK