Package: RTCGA.miRNASeq Version: 1.38.0 Command: /home/biocbuild/bbs-3.22-bioc/R/bin/R CMD INSTALL RTCGA.miRNASeq StartedAt: 2025-10-30 11:07:43 -0400 (Thu, 30 Oct 2025) EndedAt: 2025-10-30 11:09:42 -0400 (Thu, 30 Oct 2025) EllapsedTime: 119.1 seconds RetCode: 0 Status: OK