Package: RTCGA.miRNASeq Version: 1.38.0 Command: /home/biocbuild/bbs-3.22-bioc/R/bin/R CMD build --keep-empty-dirs --no-resave-data RTCGA.miRNASeq StartedAt: 2025-10-30 11:49:59 -0400 (Thu, 30 Oct 2025) EndedAt: 2025-10-30 11:52:09 -0400 (Thu, 30 Oct 2025) EllapsedTime: 130.0 seconds RetCode: 0 Status: OK PackageFile: RTCGA.miRNASeq_1.38.0.tar.gz PackageFileSize: 45.24 MiB