Package: RTCGA.clinical Version: 20151101.40.0 Command: /home/biocbuild/bbs-3.22-bioc/R/bin/R CMD INSTALL RTCGA.clinical StartedAt: 2025-11-11 11:04:46 -0500 (Tue, 11 Nov 2025) EndedAt: 2025-11-11 11:05:28 -0500 (Tue, 11 Nov 2025) EllapsedTime: 42.0 seconds RetCode: 0 Status: OK