Package: RTCGA.RPPA Version: 1.37.0 Command: /home/biocbuild/bbs-3.22-bioc/R/bin/R CMD INSTALL RTCGA.RPPA StartedAt: 2025-10-07 10:58:06 -0400 (Tue, 07 Oct 2025) EndedAt: 2025-10-07 10:58:19 -0400 (Tue, 07 Oct 2025) EllapsedTime: 12.9 seconds RetCode: 0 Status: OK