Package: QDNAseq.hg19 Version: 1.39.0 Command: /home/biocbuild/bbs-3.22-bioc/R/bin/R CMD INSTALL QDNAseq.hg19 StartedAt: 2025-10-09 11:03:52 -0400 (Thu, 09 Oct 2025) EndedAt: 2025-10-09 11:04:06 -0400 (Thu, 09 Oct 2025) EllapsedTime: 13.8 seconds RetCode: 0 Status: OK