Package: ProteinGymR Version: 1.4.0 Command: /home/biocbuild/bbs-3.22-bioc/R/bin/R CMD INSTALL ProteinGymR StartedAt: 2025-11-18 10:57:32 -0500 (Tue, 18 Nov 2025) EndedAt: 2025-11-18 10:57:47 -0500 (Tue, 18 Nov 2025) EllapsedTime: 14.8 seconds RetCode: 0 Status: OK