Package: ProteinGymR Version: 1.4.0 Command: /home/biocbuild/bbs-3.22-bioc/R/bin/R CMD build --keep-empty-dirs --no-resave-data ProteinGymR StartedAt: 2025-11-18 12:00:32 -0500 (Tue, 18 Nov 2025) EndedAt: 2025-11-18 12:04:49 -0500 (Tue, 18 Nov 2025) EllapsedTime: 257.4 seconds RetCode: 0 Status: OK PackageFile: ProteinGymR_1.4.0.tar.gz PackageFileSize: 2.027 MiB