Package: ProData Version: 1.48.0 Maintainer: Xiaochun Li MaintainerEmail: xiaochun at jimmy.harvard.edu git_url: https://git.bioconductor.org/packages/ProData git_branch: RELEASE_3_22 git_last_commit: 141570f git_last_commit_date: 2025-10-29 09:30:32 -0500 (Wed, 29 Oct 2025)