Package: PhyloProfileData Version: 1.23.3 Command: /home/biocbuild/bbs-3.22-bioc/R/bin/R CMD INSTALL PhyloProfileData StartedAt: 2025-10-09 10:57:47 -0400 (Thu, 09 Oct 2025) EndedAt: 2025-10-09 10:58:02 -0400 (Thu, 09 Oct 2025) EllapsedTime: 14.2 seconds RetCode: 0 Status: OK