Package: PhyloProfileData Version: 1.23.3 Command: /home/biocbuild/bbs-3.22-bioc/R/bin/R CMD build --keep-empty-dirs --no-resave-data PhyloProfileData StartedAt: 2025-10-09 11:34:55 -0400 (Thu, 09 Oct 2025) EndedAt: 2025-10-09 11:35:33 -0400 (Thu, 09 Oct 2025) EllapsedTime: 37.5 seconds RetCode: 0 Status: OK PackageFile: PhyloProfileData_1.23.3.tar.gz PackageFileSize: 228 KiB