Package: PepsNMRData Version: 1.28.0 Command: /home/biocbuild/bbs-3.22-bioc/R/bin/R CMD INSTALL PepsNMRData StartedAt: 2025-11-11 10:55:45 -0500 (Tue, 11 Nov 2025) EndedAt: 2025-11-11 10:55:55 -0500 (Tue, 11 Nov 2025) EllapsedTime: 9.9 seconds RetCode: 0 Status: OK