Package: ObMiTi Version: 1.17.0 Command: /home/biocbuild/bbs-3.22-bioc/R/bin/R CMD INSTALL ObMiTi StartedAt: 2025-09-30 10:59:18 -0400 (Tue, 30 Sep 2025) EndedAt: 2025-09-30 10:59:46 -0400 (Tue, 30 Sep 2025) EllapsedTime: 28.3 seconds RetCode: 0 Status: OK