Package: ObMiTi Version: 1.17.0 Command: /home/biocbuild/bbs-3.22-bioc/R/bin/R CMD build --keep-empty-dirs --no-resave-data ObMiTi StartedAt: 2025-09-30 11:33:35 -0400 (Tue, 30 Sep 2025) EndedAt: 2025-09-30 11:34:19 -0400 (Tue, 30 Sep 2025) EllapsedTime: 43.7 seconds RetCode: 0 Status: OK PackageFile: ObMiTi_1.17.0.tar.gz PackageFileSize: 46.96 KiB