Package: Neve2006 Version: 0.47.0 Command: /home/biocbuild/bbs-3.22-bioc/R/bin/R CMD INSTALL Neve2006 StartedAt: 2025-10-02 10:57:35 -0400 (Thu, 02 Oct 2025) EndedAt: 2025-10-02 10:57:52 -0400 (Thu, 02 Oct 2025) EllapsedTime: 16.6 seconds RetCode: 0 Status: OK