Package: MACSdata Version: 1.18.0 Command: /home/biocbuild/bbs-3.22-bioc/R/bin/R CMD build --keep-empty-dirs --no-resave-data MACSdata StartedAt: 2025-11-20 11:30:33 -0500 (Thu, 20 Nov 2025) EndedAt: 2025-11-20 11:30:34 -0500 (Thu, 20 Nov 2025) EllapsedTime: 1.0 seconds RetCode: 0 Status: OK PackageFile: MACSdata_1.18.0.tar.gz PackageFileSize: 2.721 KiB