Package: LiebermanAidenHiC2009 Version: 0.48.0 Command: /home/biocbuild/bbs-3.22-bioc/R/bin/R CMD INSTALL LiebermanAidenHiC2009 StartedAt: 2025-11-20 10:56:49 -0500 (Thu, 20 Nov 2025) EndedAt: 2025-11-20 10:56:56 -0500 (Thu, 20 Nov 2025) EllapsedTime: 6.4 seconds RetCode: 0 Status: OK