Package: KEGGandMetacoreDzPathwaysGEO Version: 1.30.0 Command: /home/biocbuild/bbs-3.22-bioc/R/bin/R CMD INSTALL KEGGandMetacoreDzPathwaysGEO StartedAt: 2025-11-27 10:56:29 -0500 (Thu, 27 Nov 2025) EndedAt: 2025-11-27 10:56:38 -0500 (Thu, 27 Nov 2025) EllapsedTime: 9.5 seconds RetCode: 0 Status: OK