Package: JASPAR2016 Version: 1.37.0 Command: /home/biocbuild/bbs-3.22-bioc/R/bin/R CMD build --keep-empty-dirs --no-resave-data JASPAR2016 StartedAt: 2025-09-30 11:25:35 -0400 (Tue, 30 Sep 2025) EndedAt: 2025-09-30 11:25:41 -0400 (Tue, 30 Sep 2025) EllapsedTime: 5.3 seconds RetCode: 0 Status: OK PackageFile: JASPAR2016_1.37.0.tar.gz PackageFileSize: 8.715 MiB